BEGIN:VCALENDAR
VERSION:2.0
PRODID:-//ZS CKZ Grubno - ECPv6.11.2.1//NONSGML v1.0//EN
CALSCALE:GREGORIAN
METHOD:PUBLISH
X-WR-CALNAME:ZS CKZ Grubno
X-ORIGINAL-URL:https://grubno.pl
X-WR-CALDESC:Events for ZS CKZ Grubno
REFRESH-INTERVAL;VALUE=DURATION:PT1H
X-Robots-Tag:noindex
X-PUBLISHED-TTL:PT1H
BEGIN:VTIMEZONE
TZID:Europe/Helsinki
BEGIN:DAYLIGHT
TZOFFSETFROM:+0200
TZOFFSETTO:+0300
TZNAME:EEST
DTSTART:20240331T010000
END:DAYLIGHT
BEGIN:STANDARD
TZOFFSETFROM:+0300
TZOFFSETTO:+0200
TZNAME:EET
DTSTART:20241027T010000
END:STANDARD
END:VTIMEZONE
BEGIN:VEVENT
DTSTART;TZID=Europe/Helsinki:20240410T090000
DTEND;TZID=Europe/Helsinki:20240410T130000
DTSTAMP:20260423T014806
CREATED:20230217T072843Z
LAST-MODIFIED:20240320T131318Z
UID:22548-1712739600-1712754000@grubno.pl
SUMMARY:Spotkania z ciekawymi zawodami 2024
DESCRIPTION:
URL:https://grubno.pl/event/spotkania-z-ciekawymi-zawodami-2023/
ATTACH;FMTTYPE=image/jpeg:https://grubno.pl/wp-content/uploads/2024/02/spotkania_2024b-1.jpg
END:VEVENT
END:VCALENDAR