BEGIN:VCALENDAR
VERSION:2.0
PRODID:-//ZS CKZ Grubno - ECPv6.11.2.1//NONSGML v1.0//EN
CALSCALE:GREGORIAN
METHOD:PUBLISH
X-ORIGINAL-URL:https://grubno.pl
X-WR-CALDESC:Events for ZS CKZ Grubno
REFRESH-INTERVAL;VALUE=DURATION:PT1H
X-Robots-Tag:noindex
X-PUBLISHED-TTL:PT1H
BEGIN:VTIMEZONE
TZID:Europe/Helsinki
BEGIN:DAYLIGHT
TZOFFSETFROM:+0200
TZOFFSETTO:+0300
TZNAME:EEST
DTSTART:20260329T010000
END:DAYLIGHT
BEGIN:STANDARD
TZOFFSETFROM:+0300
TZOFFSETTO:+0200
TZNAME:EET
DTSTART:20261025T010000
END:STANDARD
END:VTIMEZONE
BEGIN:VEVENT
DTSTART;TZID=Europe/Helsinki:20260614T080000
DTEND;TZID=Europe/Helsinki:20260614T170000
DTSTAMP:20260422T114506
CREATED:20210306T182716Z
LAST-MODIFIED:20251203T154708Z
UID:20049-1781424000-1781456400@grubno.pl
SUMMARY:Dzień Krwiodawstwa
DESCRIPTION:
URL:https://grubno.pl/event/dzien-krwiodawstwa/
END:VEVENT
END:VCALENDAR