BEGIN:VCALENDAR
VERSION:2.0
PRODID:-//ZS CKZ Grubno - ECPv6.11.2.1//NONSGML v1.0//EN
CALSCALE:GREGORIAN
METHOD:PUBLISH
X-WR-CALNAME:ZS CKZ Grubno
X-ORIGINAL-URL:https://grubno.pl
X-WR-CALDESC:Events for ZS CKZ Grubno
REFRESH-INTERVAL;VALUE=DURATION:PT1H
X-Robots-Tag:noindex
X-PUBLISHED-TTL:PT1H
BEGIN:VTIMEZONE
TZID:Europe/Helsinki
BEGIN:DAYLIGHT
TZOFFSETFROM:+0200
TZOFFSETTO:+0300
TZNAME:EEST
DTSTART:20220327T010000
END:DAYLIGHT
BEGIN:STANDARD
TZOFFSETFROM:+0300
TZOFFSETTO:+0200
TZNAME:EET
DTSTART:20221030T010000
END:STANDARD
END:VTIMEZONE
BEGIN:VEVENT
DTSTART;TZID=Europe/Helsinki:20220527T090000
DTEND;TZID=Europe/Helsinki:20220527T130000
DTSTAMP:20260424T155355
CREATED:20220517T123547Z
LAST-MODIFIED:20220517T123547Z
UID:21552-1653642000-1653656400@grubno.pl
SUMMARY:Drzwi Otwarte
DESCRIPTION:
URL:https://grubno.pl/event/drzwi-otwarte-2/
LOCATION:Boisko szkolne\, Poland
ATTACH;FMTTYPE=image/jpeg:https://grubno.pl/wp-content/uploads/2022/05/drzwi_otwarte_pro2022_a.jpg
END:VEVENT
END:VCALENDAR